BEGIN:VCALENDAR
VERSION:2.0
PRODID:-//Plone.org//NONSGML plone.app.event//EN
X-WR-TIMEZONE:Europe/Madrid
BEGIN:VEVENT
SUMMARY:Un teléfono y una máquina de escribir
DTSTART;TZID=Europe/Madrid;VALUE=DATE-TIME:20210910T183000
DTEND;TZID=Europe/Madrid;VALUE=DATE-TIME:20210910T193000
DTSTAMP;VALUE=DATE-TIME:20260425T151529Z
UID:da28d1505e2844ad8e4b16dc24892464@icas.sevilla.org
CATEGORIES:Bibliotecas,Infantil
CREATED;VALUE=DATE-TIME:20210824T124449Z
LAST-MODIFIED;VALUE=DATE-TIME:20231006T074956Z
LOCATION:Biblioteca Las Columnas
URL:https://icas.sevilla.org/agenda/un-telefono-y-una-maquina-de-escribir
END:VEVENT
BEGIN:VTIMEZONE
TZID:Europe/Madrid
X-LIC-LOCATION:Europe/Madrid
BEGIN:DAYLIGHT
DTSTART;VALUE=DATE-TIME:20210328T030000
TZNAME:CEST
TZOFFSETFROM:+0100
TZOFFSETTO:+0200
END:DAYLIGHT
END:VTIMEZONE
END:VCALENDAR
