BEGIN:VCALENDAR
VERSION:2.0
PRODID:-//Plone.org//NONSGML plone.app.event//EN
X-WR-TIMEZONE:Europe/Madrid
BEGIN:VEVENT
SUMMARY:'Un traje nuevo para el emperador'. Cía. La Pera Llimonera. Catal
 uña
DTSTART;TZID=Europe/Madrid;VALUE=DATE-TIME:20240302T180000
DTEND;TZID=Europe/Madrid;VALUE=DATE-TIME:20240302T190000
DTSTAMP;VALUE=DATE-TIME:20260421T122434Z
UID:613498e5b31d4c5abb3a7a4401b05c7b@icas.sevilla.org
CATEGORIES:teatro infantil y familiar
CREATED;VALUE=DATE-TIME:20231030T133221Z
DESCRIPTION:33 ciclo el TEATRO Y LA ESCUELA
LAST-MODIFIED;VALUE=DATE-TIME:20231103T125803Z
URL:https://icas.sevilla.org/agenda/un-traje-nuevo-para-el-emperador
END:VEVENT
BEGIN:VTIMEZONE
TZID:Europe/Madrid
X-LIC-LOCATION:Europe/Madrid
BEGIN:STANDARD
DTSTART;VALUE=DATE-TIME:20231029T020000
TZNAME:CET
TZOFFSETFROM:+0200
TZOFFSETTO:+0100
END:STANDARD
END:VTIMEZONE
END:VCALENDAR
