BEGIN:VCALENDAR
VERSION:2.0
PRODID:-//Plone.org//NONSGML plone.app.event//EN
X-WR-TIMEZONE:Europe/Madrid
BEGIN:VEVENT
SUMMARY:Una historia boca abajo
DTSTART;TZID=Europe/Madrid;VALUE=DATE-TIME:20231030T140000
DTEND;TZID=Europe/Madrid;VALUE=DATE-TIME:20231030T150000
DTSTAMP;VALUE=DATE-TIME:20260422T025613Z
UID:099726921e234f04ba822e5815ce59af@icas.sevilla.org
CATEGORIES:teatro infantil y familiar
CREATED;VALUE=DATE-TIME:20231030T130726Z
DESCRIPTION:Cía. La Baracca Testoni Ragazzi. Italia\n33 Ciclo EL TEATRO Y
  LA ESCUELA
LAST-MODIFIED;VALUE=DATE-TIME:20231030T130911Z
URL:https://icas.sevilla.org/agenda/una-historia-boca-abajo-cia-la-baracca
 -testoni-ragazzi-italia
END:VEVENT
BEGIN:VTIMEZONE
TZID:Europe/Madrid
X-LIC-LOCATION:Europe/Madrid
BEGIN:STANDARD
DTSTART;VALUE=DATE-TIME:20231029T020000
TZNAME:CET
TZOFFSETFROM:+0200
TZOFFSETTO:+0100
END:STANDARD
END:VTIMEZONE
END:VCALENDAR
