BEGIN:VCALENDAR
VERSION:2.0
PRODID:-//Plone.org//NONSGML plone.app.event//EN
X-WR-TIMEZONE:Europe/Madrid
BEGIN:VEVENT
SUMMARY:'Esencial'\, de Cía Vaivén Circo
DTSTART;TZID=Europe/Madrid;VALUE=DATE-TIME:20201206T163000
DTEND;TZID=Europe/Madrid;VALUE=DATE-TIME:20201206T173000
DTSTAMP;VALUE=DATE-TIME:20260423T171811Z
UID:4b45a9b184284f88875540241ba2fab5@icas.sevilla.org
CATEGORIES:Artes escénicas
CREATED;VALUE=DATE-TIME:20201015T135708Z
LAST-MODIFIED;VALUE=DATE-TIME:20231006T072809Z
URL:https://icas.sevilla.org/agenda/vaiven-circo
END:VEVENT
BEGIN:VTIMEZONE
TZID:Europe/Madrid
X-LIC-LOCATION:Europe/Madrid
BEGIN:STANDARD
DTSTART;VALUE=DATE-TIME:20201025T020000
TZNAME:CET
TZOFFSETFROM:+0200
TZOFFSETTO:+0100
END:STANDARD
END:VTIMEZONE
END:VCALENDAR
