BEGIN:VCALENDAR
VERSION:2.0
PRODID:-//Plone.org//NONSGML plone.app.event//EN
X-WR-TIMEZONE:Europe/Madrid
BEGIN:VEVENT
SUMMARY:Veraneando con Magallanes: Nao Victoria
DTSTART;TZID=Europe/Madrid;VALUE=DATE-TIME:20210722T110000
DTEND;TZID=Europe/Madrid;VALUE=DATE-TIME:20210722T120000
DTSTAMP;VALUE=DATE-TIME:20260419T231240Z
UID:b5a1d388d4454219b71606e1506c09f0@icas.sevilla.org
CATEGORIES:Bibliotecas,Infantil
CREATED;VALUE=DATE-TIME:20210608T143111Z
LAST-MODIFIED;VALUE=DATE-TIME:20231006T073653Z
LOCATION:Biblioteca Felipe González
URL:https://icas.sevilla.org/agenda/veraneando-con-magallanes-nao-victoria
END:VEVENT
BEGIN:VTIMEZONE
TZID:Europe/Madrid
X-LIC-LOCATION:Europe/Madrid
BEGIN:DAYLIGHT
DTSTART;VALUE=DATE-TIME:20210328T030000
TZNAME:CEST
TZOFFSETFROM:+0100
TZOFFSETTO:+0200
END:DAYLIGHT
END:VTIMEZONE
END:VCALENDAR
