BEGIN:VCALENDAR
VERSION:2.0
PRODID:-//Plone.org//NONSGML plone.app.event//EN
X-WR-TIMEZONE:Europe/Madrid
BEGIN:VEVENT
SUMMARY:Veraneando con Magallanes: Una historia muy especial
DTSTART;TZID=Europe/Madrid;VALUE=DATE-TIME:20210701T110000
DTEND;TZID=Europe/Madrid;VALUE=DATE-TIME:20210701T120000
DTSTAMP;VALUE=DATE-TIME:20260423T112725Z
UID:5a9510e5b4b345879f82411d26bb829e@icas.sevilla.org
CATEGORIES:Bibliotecas,Infantil
CREATED;VALUE=DATE-TIME:20210608T142413Z
LAST-MODIFIED;VALUE=DATE-TIME:20231006T073649Z
LOCATION:Biblioteca Felipe González
URL:https://icas.sevilla.org/agenda/veraneando-con-magallanes-una-historia
 -muy-especial
END:VEVENT
BEGIN:VTIMEZONE
TZID:Europe/Madrid
X-LIC-LOCATION:Europe/Madrid
BEGIN:DAYLIGHT
DTSTART;VALUE=DATE-TIME:20210328T030000
TZNAME:CEST
TZOFFSETFROM:+0100
TZOFFSETTO:+0200
END:DAYLIGHT
END:VTIMEZONE
END:VCALENDAR
