BEGIN:VCALENDAR
VERSION:2.0
PRODID:-//Plone.org//NONSGML plone.app.event//EN
X-WR-TIMEZONE:Europe/Madrid
BEGIN:VEVENT
SUMMARY:Veraneo en la city 2020. Distrito Nervión
DTSTART;TZID=Europe/Madrid;VALUE=DATE-TIME:20200713T220000
DTEND;TZID=Europe/Madrid;VALUE=DATE-TIME:20200801T230000
DTSTAMP;VALUE=DATE-TIME:20260420T091709Z
UID:a13c83ed1e484549980adfd8ca8f5cd3@icas.sevilla.org
CREATED;VALUE=DATE-TIME:20200713T115844Z
LAST-MODIFIED;VALUE=DATE-TIME:20231006T072345Z
URL:https://icas.sevilla.org/agenda/veraneo-en-la-city-2020-distrito-nervi
 on
END:VEVENT
BEGIN:VTIMEZONE
TZID:Europe/Madrid
X-LIC-LOCATION:Europe/Madrid
BEGIN:DAYLIGHT
DTSTART;VALUE=DATE-TIME:20200329T030000
TZNAME:CEST
TZOFFSETFROM:+0100
TZOFFSETTO:+0200
END:DAYLIGHT
END:VTIMEZONE
END:VCALENDAR
