BEGIN:VCALENDAR
VERSION:2.0
PRODID:-//Plone.org//NONSGML plone.app.event//EN
X-WR-TIMEZONE:Europe/Madrid
BEGIN:VEVENT
SUMMARY:Veraneo en la city 2020 - Distrito Norte
DTSTART;TZID=Europe/Madrid;VALUE=DATE-TIME:20200713T210000
DTEND;TZID=Europe/Madrid;VALUE=DATE-TIME:20200829T220000
DTSTAMP;VALUE=DATE-TIME:20260423T215426Z
UID:3f3037223b7345cfa9237775592cb98c@icas.sevilla.org
CATEGORIES:Distritos,Flamenco,Música,Artes escénicas
CREATED;VALUE=DATE-TIME:20200713T112359Z
LAST-MODIFIED;VALUE=DATE-TIME:20231006T072342Z
URL:https://icas.sevilla.org/agenda/veraneo-en-la-city-2020-distrito-norte
END:VEVENT
BEGIN:VTIMEZONE
TZID:Europe/Madrid
X-LIC-LOCATION:Europe/Madrid
BEGIN:DAYLIGHT
DTSTART;VALUE=DATE-TIME:20200329T030000
TZNAME:CEST
TZOFFSETFROM:+0100
TZOFFSETTO:+0200
END:DAYLIGHT
END:VTIMEZONE
END:VCALENDAR
