BEGIN:VCALENDAR
VERSION:2.0
PRODID:-//Plone.org//NONSGML plone.app.event//EN
X-WR-TIMEZONE:Europe/Madrid
BEGIN:VEVENT
SUMMARY:Veraneo en la city 2020. Distrito Sur
DTSTART;TZID=Europe/Madrid;VALUE=DATE-TIME:20200723T220000
DTEND;TZID=Europe/Madrid;VALUE=DATE-TIME:20200827T230000
DTSTAMP;VALUE=DATE-TIME:20260423T084241Z
UID:a1f176fdbad544648f1f7f8b41922045@icas.sevilla.org
CATEGORIES:Distritos,Música,Artes escénicas
CREATED;VALUE=DATE-TIME:20200713T120742Z
LAST-MODIFIED;VALUE=DATE-TIME:20231006T072346Z
URL:https://icas.sevilla.org/agenda/veraneo-en-la-city-2020-distrito-sur
END:VEVENT
BEGIN:VTIMEZONE
TZID:Europe/Madrid
X-LIC-LOCATION:Europe/Madrid
BEGIN:DAYLIGHT
DTSTART;VALUE=DATE-TIME:20200329T030000
TZNAME:CEST
TZOFFSETFROM:+0100
TZOFFSETTO:+0200
END:DAYLIGHT
END:VTIMEZONE
END:VCALENDAR
