BEGIN:VCALENDAR
VERSION:2.0
PRODID:-//Plone.org//NONSGML plone.app.event//EN
X-WR-TIMEZONE:Europe/Madrid
BEGIN:VEVENT
SUMMARY:'Viaje al planeta de todo es posible'. Cía. Índigo Teatro. Mála
 ga
DTSTART;TZID=Europe/Madrid;VALUE=DATE-TIME:20240210T180000
DTEND;TZID=Europe/Madrid;VALUE=DATE-TIME:20240210T190000
DTSTAMP;VALUE=DATE-TIME:20260422T162704Z
UID:6a02f8626a454b95b0773bd89d8386a9@icas.sevilla.org
CATEGORIES:teatro infantil y familiar
CREATED;VALUE=DATE-TIME:20231030T131631Z
DESCRIPTION:33 ciclo el TEATRO Y LA ESCUELA
LAST-MODIFIED;VALUE=DATE-TIME:20231103T125404Z
URL:https://icas.sevilla.org/agenda/viaje-al-planeta-de-todo-es-posible
END:VEVENT
BEGIN:VTIMEZONE
TZID:Europe/Madrid
X-LIC-LOCATION:Europe/Madrid
BEGIN:STANDARD
DTSTART;VALUE=DATE-TIME:20231029T020000
TZNAME:CET
TZOFFSETFROM:+0200
TZOFFSETTO:+0100
END:STANDARD
END:VTIMEZONE
END:VCALENDAR
