BEGIN:VCALENDAR
VERSION:2.0
PRODID:-//Plone.org//NONSGML plone.app.event//EN
X-WR-TIMEZONE:Europe/Madrid
BEGIN:VEVENT
SUMMARY:Visionado 'It´s a Sin' y taller sobre VIH (Festival Togaytherland
 )
DTSTART;TZID=Europe/Madrid;VALUE=DATE-TIME:20210325T180000
DTEND;TZID=Europe/Madrid;VALUE=DATE-TIME:20210325T200000
DTSTAMP;VALUE=DATE-TIME:20260420T224357Z
UID:8236d748c28f4e7bb72381f6d313bc44@icas.sevilla.org
CATEGORIES:Cine
CREATED;VALUE=DATE-TIME:20210316T113118Z
LAST-MODIFIED;VALUE=DATE-TIME:20231006T073252Z
URL:https://icas.sevilla.org/agenda/vih-taller
END:VEVENT
BEGIN:VTIMEZONE
TZID:Europe/Madrid
X-LIC-LOCATION:Europe/Madrid
BEGIN:STANDARD
DTSTART;VALUE=DATE-TIME:20201025T020000
TZNAME:CET
TZOFFSETFROM:+0200
TZOFFSETTO:+0100
END:STANDARD
END:VTIMEZONE
END:VCALENDAR
