BEGIN:VCALENDAR
VERSION:2.0
PRODID:-//Plone.org//NONSGML plone.app.event//EN
X-WR-TIMEZONE:Europe/Madrid
BEGIN:VEVENT
SUMMARY:VIII Concurso de Marcapáginas
DTSTART;TZID=Europe/Madrid;VALUE=DATE-TIME:20220429T183000
DTEND;TZID=Europe/Madrid;VALUE=DATE-TIME:20220429T193000
DTSTAMP;VALUE=DATE-TIME:20260422T151107Z
UID:9d081dce2d554be3b9d1497a8609cb6e@icas.sevilla.org
CATEGORIES:Concurso
CREATED;VALUE=DATE-TIME:20220407T150749Z
LAST-MODIFIED;VALUE=DATE-TIME:20231006T075745Z
LOCATION:Biblioteca Blas Infante
URL:https://icas.sevilla.org/agenda/viii-concurso-de-marcapaginas
END:VEVENT
BEGIN:VTIMEZONE
TZID:Europe/Madrid
X-LIC-LOCATION:Europe/Madrid
BEGIN:DAYLIGHT
DTSTART;VALUE=DATE-TIME:20220327T030000
TZNAME:CEST
TZOFFSETFROM:+0100
TZOFFSETTO:+0200
END:DAYLIGHT
END:VTIMEZONE
END:VCALENDAR
