BEGIN:VCALENDAR
VERSION:2.0
PRODID:-//Plone.org//NONSGML plone.app.event//EN
X-WR-TIMEZONE:Europe/Madrid
BEGIN:VEVENT
SUMMARY:Emilio Villalba & Sara Marina: Música Cautiva
DTSTART;TZID=Europe/Madrid;VALUE=DATE-TIME:20200922T220000
DTEND;TZID=Europe/Madrid;VALUE=DATE-TIME:20200922T230000
DTSTAMP;VALUE=DATE-TIME:20260423T171928Z
UID:80c6e380934848b3be2a059ab7058c6e@icas.sevilla.org
CATEGORIES:Música
CREATED;VALUE=DATE-TIME:20200910T093351Z
LAST-MODIFIED;VALUE=DATE-TIME:20231006T072413Z
URL:https://icas.sevilla.org/agenda/villalba-cautiva
END:VEVENT
BEGIN:VTIMEZONE
TZID:Europe/Madrid
X-LIC-LOCATION:Europe/Madrid
BEGIN:DAYLIGHT
DTSTART;VALUE=DATE-TIME:20200329T030000
TZNAME:CEST
TZOFFSETFROM:+0100
TZOFFSETTO:+0200
END:DAYLIGHT
END:VTIMEZONE
END:VCALENDAR
