BEGIN:VCALENDAR
VERSION:2.0
PRODID:-//Plone.org//NONSGML plone.app.event//EN
X-WR-TIMEZONE:Europe/Madrid
BEGIN:VEVENT
SUMMARY:Visiones del futuro: Trilogía del temblor y la balada de los dron
 es\, de Daniel Bellón (Laboratorio de lectura de textos poéticos: ciclo 
 de conferencias sobre poesía española contemporánea)
DTSTART;TZID=Europe/Madrid;VALUE=DATE-TIME:20211103T183000
DTEND;TZID=Europe/Madrid;VALUE=DATE-TIME:20211103T193000
DTSTAMP;VALUE=DATE-TIME:20260420T042626Z
UID:d562ec6f75104a36a7cabfdc1388f0ec@icas.sevilla.org
CATEGORIES:Bibliotecas,Libros y publicaciones,Literatura
CREATED;VALUE=DATE-TIME:20211019T135831Z
LAST-MODIFIED;VALUE=DATE-TIME:20231006T075306Z
LOCATION:Biblioteca Alberto Lista
URL:https://icas.sevilla.org/agenda/visiones-del-futuro-trilogia-del-tembl
 or-y-la-balada-de-los-drones-de-daniel-bellon-laboratorio-de-lectura-de-te
 xtos-poeticos-ciclo-de-conferencias-sobre-poesia-espanola-contemporanea
END:VEVENT
BEGIN:VTIMEZONE
TZID:Europe/Madrid
X-LIC-LOCATION:Europe/Madrid
BEGIN:STANDARD
DTSTART;VALUE=DATE-TIME:20211031T020000
TZNAME:CET
TZOFFSETFROM:+0200
TZOFFSETTO:+0100
END:STANDARD
END:VTIMEZONE
END:VCALENDAR
