BEGIN:VCALENDAR
VERSION:2.0
PRODID:-//Plone.org//NONSGML plone.app.event//EN
X-WR-TIMEZONE:Europe/Madrid
BEGIN:VEVENT
SUMMARY:Visita teatralizada: 'Los mosaicos de Antiquarium'
DTSTART;TZID=Europe/Madrid;VALUE=DATE-TIME:20201011T120000
DTSTAMP;VALUE=DATE-TIME:20260423T141926Z
UID:3b68e48ee9134ea28970f9cb98e9197c@icas.sevilla.org
CATEGORIES:Patrimonio
CREATED;VALUE=DATE-TIME:20201001T113647Z
LAST-MODIFIED;VALUE=DATE-TIME:20231006T072708Z
URL:https://icas.sevilla.org/agenda/visita-mosaicos-11-octubre
END:VEVENT
BEGIN:VTIMEZONE
TZID:Europe/Madrid
X-LIC-LOCATION:Europe/Madrid
BEGIN:DAYLIGHT
DTSTART;VALUE=DATE-TIME:20200329T030000
TZNAME:CEST
TZOFFSETFROM:+0100
TZOFFSETTO:+0200
END:DAYLIGHT
END:VTIMEZONE
END:VCALENDAR
