BEGIN:VCALENDAR
VERSION:2.0
PRODID:-//Plone.org//NONSGML plone.app.event//EN
X-WR-TIMEZONE:Europe/Madrid
BEGIN:VEVENT
SUMMARY:For +\, de Cía Xarop Teatre (Comunidad Valenciana)
DTSTART;TZID=Europe/Madrid;VALUE=DATE-TIME:20210527T190000
DTEND;TZID=Europe/Madrid;VALUE=DATE-TIME:20210527T193000
DTSTAMP;VALUE=DATE-TIME:20260422T195434Z
UID:b009c9cbc9c64a56aea0e9ec6dd39b8c@icas.sevilla.org
CATEGORIES:Artes escénicas
CREATED;VALUE=DATE-TIME:20210429T074106Z
LAST-MODIFIED;VALUE=DATE-TIME:20231006T073618Z
URL:https://icas.sevilla.org/agenda/xarop-teatre-comunidad-valenciana
END:VEVENT
BEGIN:VTIMEZONE
TZID:Europe/Madrid
X-LIC-LOCATION:Europe/Madrid
BEGIN:DAYLIGHT
DTSTART;VALUE=DATE-TIME:20210328T030000
TZNAME:CEST
TZOFFSETFROM:+0100
TZOFFSETTO:+0200
END:DAYLIGHT
END:VTIMEZONE
END:VCALENDAR
