BEGIN:VCALENDAR
VERSION:2.0
PRODID:-//Plone.org//NONSGML plone.app.event//EN
X-WR-TIMEZONE:Europe/Madrid
BEGIN:VEVENT
SUMMARY:IX Festival Sevilla Swing. Mastretta
DTSTART;TZID=Europe/Madrid;VALUE=DATE-TIME:20210409T190000
DTEND;TZID=Europe/Madrid;VALUE=DATE-TIME:20210409T203000
DTSTAMP;VALUE=DATE-TIME:20260421T104456Z
UID:a4de2b03a7734c068d14e0bbd42abef9@icas.sevilla.org
CATEGORIES:Música
CREATED;VALUE=DATE-TIME:20210312T121418Z
LAST-MODIFIED;VALUE=DATE-TIME:20231006T073241Z
LOCATION:Teatro Alameda
URL:https://icas.sevilla.org/agenda/xi-festival-sevilla-swing-mastretta
END:VEVENT
BEGIN:VTIMEZONE
TZID:Europe/Madrid
X-LIC-LOCATION:Europe/Madrid
BEGIN:DAYLIGHT
DTSTART;VALUE=DATE-TIME:20210328T030000
TZNAME:CEST
TZOFFSETFROM:+0100
TZOFFSETTO:+0200
END:DAYLIGHT
END:VTIMEZONE
END:VCALENDAR
