BEGIN:VCALENDAR
VERSION:2.0
PRODID:-//Plone.org//NONSGML plone.app.event//EN
X-WR-TIMEZONE:Europe/Madrid
BEGIN:VEVENT
SUMMARY:XVI Premio Iberoamericano de Poesía Hermanos Machado
DTSTART;TZID=Europe/Madrid;VALUE=DATE-TIME:20251216T100000
DTEND;TZID=Europe/Madrid;VALUE=DATE-TIME:20260331T235500
DTSTAMP;VALUE=DATE-TIME:20260422T192016Z
UID:aa4ce07044ae4fdead4cdcfbcb05e005@icas.sevilla.org
CATEGORIES:poesía,literatura,premio
CREATED;VALUE=DATE-TIME:20251226T091420Z
LAST-MODIFIED;VALUE=DATE-TIME:20260302T083416Z
URL:https://icas.sevilla.org/agenda/xvi-premio-iberoamericano-de-poesia-he
 rmanos-machado
END:VEVENT
BEGIN:VTIMEZONE
TZID:Europe/Madrid
X-LIC-LOCATION:Europe/Madrid
BEGIN:STANDARD
DTSTART;VALUE=DATE-TIME:20251026T020000
TZNAME:CET
TZOFFSETFROM:+0200
TZOFFSETTO:+0100
END:STANDARD
BEGIN:DAYLIGHT
DTSTART;VALUE=DATE-TIME:20260329T030000
TZNAME:CEST
TZOFFSETFROM:+0100
TZOFFSETTO:+0200
END:DAYLIGHT
END:VTIMEZONE
END:VCALENDAR
