BEGIN:VCALENDAR
VERSION:2.0
PRODID:-//Plone.org//NONSGML plone.app.event//EN
X-WR-TIMEZONE:Europe/Madrid
BEGIN:VEVENT
SUMMARY:XXXII Ciclo de Música de Cámara de la ROSS. Óliver Díaz\, dire
 ctor/Ruth Rosique\, soprano
DTSTART;TZID=Europe/Madrid;VALUE=DATE-TIME:20220515T120000
DTEND;TZID=Europe/Madrid;VALUE=DATE-TIME:20220515T133000
DTSTAMP;VALUE=DATE-TIME:20260423T185959Z
UID:254150b678c041c2b91769ff6f66217c@icas.sevilla.org
CATEGORIES:Música
CREATED;VALUE=DATE-TIME:20210716T121757Z
LAST-MODIFIED;VALUE=DATE-TIME:20231006T074835Z
LOCATION:Espacio Turina
URL:https://icas.sevilla.org/agenda/xxxii-ciclo-de-musica-de-camara-de-la-
 ross-oliver-diaz-director-ruth-rosique-soprano
END:VEVENT
BEGIN:VTIMEZONE
TZID:Europe/Madrid
X-LIC-LOCATION:Europe/Madrid
BEGIN:DAYLIGHT
DTSTART;VALUE=DATE-TIME:20220327T030000
TZNAME:CEST
TZOFFSETFROM:+0100
TZOFFSETTO:+0200
END:DAYLIGHT
END:VTIMEZONE
END:VCALENDAR
