BEGIN:VCALENDAR
VERSION:2.0
PRODID:-//Plone.org//NONSGML plone.app.event//EN
X-WR-TIMEZONE:Europe/Madrid
BEGIN:VEVENT
SUMMARY:QUINTETO DE VIENTO BÓREAS  Ganadores del Concurso de Música de C
 ámara “José Gámez” del Conservatorio Superior de Música Manuel Cas
 tillo
DTSTART;TZID=Europe/Madrid;VALUE=DATE-TIME:20211219T120000
DTEND;TZID=Europe/Madrid;VALUE=DATE-TIME:20211219T133000
DTSTAMP;VALUE=DATE-TIME:20260423T172515Z
UID:40cdfbb436304c59baf8973b4ae3af3b@icas.sevilla.org
CATEGORIES:Música
CREATED;VALUE=DATE-TIME:20210716T120541Z
DESCRIPTION:XXXII Ciclo de Música de Cámara de la ROSS. Programa Conserv
 atorio Superior de Sevilla Manuel Castillo
LAST-MODIFIED;VALUE=DATE-TIME:20231006T074829Z
LOCATION:Espacio Turina
URL:https://icas.sevilla.org/agenda/xxxii-ciclo-de-musica-de-camara-de-la-
 ross-programa-conservatorio-superior-de-sevilla-201cmanuel-castillo
END:VEVENT
BEGIN:VTIMEZONE
TZID:Europe/Madrid
X-LIC-LOCATION:Europe/Madrid
BEGIN:STANDARD
DTSTART;VALUE=DATE-TIME:20211031T020000
TZNAME:CET
TZOFFSETFROM:+0200
TZOFFSETTO:+0100
END:STANDARD
END:VTIMEZONE
END:VCALENDAR
