BEGIN:VCALENDAR
VERSION:2.0
PRODID:-//Plone.org//NONSGML plone.app.event//EN
X-WR-TIMEZONE:Europe/Madrid
BEGIN:VEVENT
SUMMARY:XXXII Ciclo de Música de Cámara de la ROSS.Piano: Tatiana Postni
 kova / Cello: Sasha L. Crisan / Flauta: Vicent Morelló i Broseta
DTSTART;TZID=Europe/Madrid;VALUE=DATE-TIME:20211107T120000
DTEND;TZID=Europe/Madrid;VALUE=DATE-TIME:20211107T133000
DTSTAMP;VALUE=DATE-TIME:20260423T021103Z
UID:be647a72961e4d71a0a55bcf06f5f987@icas.sevilla.org
CATEGORIES:Música
CREATED;VALUE=DATE-TIME:20210716T115926Z
LAST-MODIFIED;VALUE=DATE-TIME:20231006T074828Z
LOCATION:Espacio Turina
URL:https://icas.sevilla.org/agenda/xxxii-ciclo-de-musica-de-camara-de-la-
 ross
END:VEVENT
BEGIN:VTIMEZONE
TZID:Europe/Madrid
X-LIC-LOCATION:Europe/Madrid
BEGIN:STANDARD
DTSTART;VALUE=DATE-TIME:20211031T020000
TZNAME:CET
TZOFFSETFROM:+0200
TZOFFSETTO:+0100
END:STANDARD
END:VTIMEZONE
END:VCALENDAR
