BEGIN:VCALENDAR
VERSION:2.0
PRODID:-//Plone.org//NONSGML plone.app.event//EN
X-WR-TIMEZONE:Europe/Madrid
BEGIN:VEVENT
SUMMARY:XXXVIII FeMÀS. La Real Cámara: 'Bolonia 1708'
DTSTART;TZID=Europe/Madrid;VALUE=DATE-TIME:20210325T183000
DTEND;TZID=Europe/Madrid;VALUE=DATE-TIME:20210325T200000
DTSTAMP;VALUE=DATE-TIME:20260420T230538Z
UID:3848589867ee481cbc30ed0bf714e5d1@icas.sevilla.org
CATEGORIES:Música
CONTACT:https://www.sevilla.org/xxxviii-festival-de-musica-antigua-de-sevi
 lla-2021/programacion/espacio-turina/la-real-camara
CREATED;VALUE=DATE-TIME:20210302T162702Z
DESCRIPTION:En coproducción con el Centro Nacional de Difusión Musical. 
 - Director: Emilio Moreno
LAST-MODIFIED;VALUE=DATE-TIME:20231006T073235Z
URL:https://icas.sevilla.org/agenda/xxxviii-femas-la-real-camara-bolonia-1
 708
END:VEVENT
BEGIN:VTIMEZONE
TZID:Europe/Madrid
X-LIC-LOCATION:Europe/Madrid
BEGIN:STANDARD
DTSTART;VALUE=DATE-TIME:20201025T020000
TZNAME:CET
TZOFFSETFROM:+0200
TZOFFSETTO:+0100
END:STANDARD
END:VTIMEZONE
END:VCALENDAR
