BEGIN:VCALENDAR
VERSION:2.0
PRODID:-//Plone.org//NONSGML plone.app.event//EN
X-WR-TIMEZONE:Europe/Madrid
BEGIN:VEVENT
SUMMARY:Zahir Ensemble
DTSTART;TZID=Europe/Madrid;VALUE=DATE-TIME:20231122T200000
DTEND;TZID=Europe/Madrid;VALUE=DATE-TIME:20231122T220000
DTSTAMP;VALUE=DATE-TIME:20260422T231527Z
UID:d4d13610317147299cc380fb3e5c6d04@icas.sevilla.org
CATEGORIES:Música,Música contemporánea
CREATED;VALUE=DATE-TIME:20231026T130859Z
DESCRIPTION:XIV Festival Zahir Ensemble de Música Contemporánea
LAST-MODIFIED;VALUE=DATE-TIME:20231026T131020Z
URL:https://icas.sevilla.org/agenda/zahir-ensemble-1
END:VEVENT
BEGIN:VTIMEZONE
TZID:Europe/Madrid
X-LIC-LOCATION:Europe/Madrid
BEGIN:STANDARD
DTSTART;VALUE=DATE-TIME:20231029T020000
TZNAME:CET
TZOFFSETFROM:+0200
TZOFFSETTO:+0100
END:STANDARD
END:VTIMEZONE
END:VCALENDAR
