BEGIN:VCALENDAR
VERSION:2.0
PRODID:-//Plone.org//NONSGML plone.app.event//EN
X-WR-TIMEZONE:Europe/Madrid
BEGIN:VEVENT
SUMMARY:10 años de Urban Sketchers Sevilla (exposición colectiva)
DTSTART;TZID=Europe/Madrid;VALUE=DATE-TIME:20230503T190000
DTEND;TZID=Europe/Madrid;VALUE=DATE-TIME:20230513T200000
DTSTAMP;VALUE=DATE-TIME:20260420T080918Z
UID:1fcfe353c03e4ff6bf84923173f8f3b7@icas.sevilla.org
CATEGORIES:Exposición
CREATED;VALUE=DATE-TIME:20230427T093555Z
LAST-MODIFIED;VALUE=DATE-TIME:20231011T100743Z
URL:https://icas.sevilla.org/espacios/antiquarium/agenda/10-anos-de-urban-
 sketchers-sevilla-exposicion-colectiva
END:VEVENT
BEGIN:VTIMEZONE
TZID:Europe/Madrid
X-LIC-LOCATION:Europe/Madrid
BEGIN:DAYLIGHT
DTSTART;VALUE=DATE-TIME:20230326T030000
TZNAME:CEST
TZOFFSETFROM:+0100
TZOFFSETTO:+0200
END:DAYLIGHT
END:VTIMEZONE
END:VCALENDAR
