BEGIN:VCALENDAR
VERSION:2.0
PRODID:-//Plone.org//NONSGML plone.app.event//EN
X-WR-TIMEZONE:Europe/Madrid
BEGIN:VEVENT
SUMMARY:ANTONIO MACHADO Y GARCÍA LORCA POÉTICOS  RECITAL DE CHARI LARA Y
  OLOR A TABLAS
DTSTART;TZID=Europe/Madrid;VALUE=DATE-TIME:20240208T190000
DTSTAMP;VALUE=DATE-TIME:20260419T155622Z
UID:3c3e78cff51349db85406fdebb2cbbe2@icas.sevilla.org
CREATED;VALUE=DATE-TIME:20240207T132327Z
LAST-MODIFIED;VALUE=DATE-TIME:20240207T132330Z
URL:https://icas.sevilla.org/espacios/antiquarium/agenda/antonio-machado-y
 -garcia-lorca-poeticos-recital-de-chari-lara-y-olor-a-tablas
END:VEVENT
BEGIN:VTIMEZONE
TZID:Europe/Madrid
X-LIC-LOCATION:Europe/Madrid
BEGIN:STANDARD
DTSTART;VALUE=DATE-TIME:20231029T020000
TZNAME:CET
TZOFFSETFROM:+0200
TZOFFSETTO:+0100
END:STANDARD
END:VTIMEZONE
END:VCALENDAR
