BEGIN:VCALENDAR
VERSION:2.0
PRODID:-//Plone.org//NONSGML plone.app.event//EN
X-WR-TIMEZONE:Europe/Madrid
BEGIN:VEVENT
SUMMARY:CONCIERTO DE PUERTO DE INDIAS. PRESENTADO POR JOSÉ ANTONIO CONDE
DTSTART;TZID=Europe/Madrid;VALUE=DATE-TIME:20240209T190000
DTSTAMP;VALUE=DATE-TIME:20260424T022125Z
UID:c211a85008e143bdb2994b59b0f6bcc3@icas.sevilla.org
CREATED;VALUE=DATE-TIME:20240207T102334Z
LAST-MODIFIED;VALUE=DATE-TIME:20240207T102350Z
URL:https://icas.sevilla.org/espacios/antiquarium/agenda/concierto-de-puer
 to-de-indias-presentado-por-jose-antonio-conde
END:VEVENT
BEGIN:VTIMEZONE
TZID:Europe/Madrid
X-LIC-LOCATION:Europe/Madrid
BEGIN:STANDARD
DTSTART;VALUE=DATE-TIME:20231029T020000
TZNAME:CET
TZOFFSETFROM:+0200
TZOFFSETTO:+0100
END:STANDARD
END:VTIMEZONE
END:VCALENDAR
