BEGIN:VCALENDAR
VERSION:2.0
PRODID:-//Plone.org//NONSGML plone.app.event//EN
X-WR-TIMEZONE:Europe/Madrid
BEGIN:VEVENT
SUMMARY:Concierto del cantautor Alfonso del Valle
DTSTART;TZID=Europe/Madrid;VALUE=DATE-TIME:20230502T200000
DTEND;TZID=Europe/Madrid;VALUE=DATE-TIME:20230502T210000
DTSTAMP;VALUE=DATE-TIME:20260423T021146Z
UID:9811803cb26549fba5cf5b4b874cc0ef@icas.sevilla.org
CATEGORIES:Concierto
CREATED;VALUE=DATE-TIME:20230427T093020Z
LAST-MODIFIED;VALUE=DATE-TIME:20231011T100743Z
URL:https://icas.sevilla.org/espacios/antiquarium/agenda/concierto-del-can
 tautor-alfonso-del-valle
END:VEVENT
BEGIN:VTIMEZONE
TZID:Europe/Madrid
X-LIC-LOCATION:Europe/Madrid
BEGIN:DAYLIGHT
DTSTART;VALUE=DATE-TIME:20230326T030000
TZNAME:CEST
TZOFFSETFROM:+0100
TZOFFSETTO:+0200
END:DAYLIGHT
END:VTIMEZONE
END:VCALENDAR
