BEGIN:VCALENDAR
VERSION:2.0
PRODID:-//Plone.org//NONSGML plone.app.event//EN
X-WR-TIMEZONE:Europe/Madrid
BEGIN:VEVENT
SUMMARY:Conferencia 'Cerámica Fajalauza de Granada'\, por Chemi Márquez
DTSTART;TZID=Europe/Madrid;VALUE=DATE-TIME:20230120T180000
DTEND;TZID=Europe/Madrid;VALUE=DATE-TIME:20230120T190000
DTSTAMP;VALUE=DATE-TIME:20260425T222456Z
UID:cce140c7fecf47cdb1afb75d26f71c96@icas.sevilla.org
CATEGORIES:Conferencia
CREATED;VALUE=DATE-TIME:20221221T120055Z
LAST-MODIFIED;VALUE=DATE-TIME:20231011T100742Z
URL:https://icas.sevilla.org/espacios/antiquarium/agenda/conferencia-ceram
 ica-fajalauza-de-granada-por-chemi-marquez
END:VEVENT
BEGIN:VTIMEZONE
TZID:Europe/Madrid
X-LIC-LOCATION:Europe/Madrid
BEGIN:STANDARD
DTSTART;VALUE=DATE-TIME:20221030T020000
TZNAME:CET
TZOFFSETFROM:+0200
TZOFFSETTO:+0100
END:STANDARD
END:VTIMEZONE
END:VCALENDAR
