BEGIN:VCALENDAR
VERSION:2.0
PRODID:-//Plone.org//NONSGML plone.app.event//EN
X-WR-TIMEZONE:Europe/Madrid
BEGIN:VEVENT
SUMMARY:Conferencia. 'Juan Diego\, cine y compromiso social'. Alberto Cód
 er
DTSTART;TZID=Europe/Madrid;VALUE=DATE-TIME:20230125T190000
DTEND;TZID=Europe/Madrid;VALUE=DATE-TIME:20230125T200000
DTSTAMP;VALUE=DATE-TIME:20260423T142029Z
UID:711d0e7d7296417e98dee2d11ad7b739@icas.sevilla.org
CREATED;VALUE=DATE-TIME:20221117T121838Z
LAST-MODIFIED;VALUE=DATE-TIME:20231011T100742Z
URL:https://icas.sevilla.org/espacios/antiquarium/agenda/conferencia-juan-
 diego-cine-y-compromiso-social-alberto-coder
END:VEVENT
BEGIN:VTIMEZONE
TZID:Europe/Madrid
X-LIC-LOCATION:Europe/Madrid
BEGIN:STANDARD
DTSTART;VALUE=DATE-TIME:20221030T020000
TZNAME:CET
TZOFFSETFROM:+0200
TZOFFSETTO:+0100
END:STANDARD
END:VTIMEZONE
END:VCALENDAR
