BEGIN:VCALENDAR
VERSION:2.0
PRODID:-//Plone.org//NONSGML plone.app.event//EN
X-WR-TIMEZONE:Europe/Madrid
BEGIN:VEVENT
SUMMARY:Congreso internacional de Cerámica Artesanal. España e Italia
DTSTART;TZID=Europe/Madrid;VALUE=DATE-TIME:20230325T100000
DTEND;TZID=Europe/Madrid;VALUE=DATE-TIME:20230325T110000
DTSTAMP;VALUE=DATE-TIME:20260420T125957Z
UID:dcead55e296d4f0dae74cda0f6206482@icas.sevilla.org
CREATED;VALUE=DATE-TIME:20230227T153218Z
LAST-MODIFIED;VALUE=DATE-TIME:20231011T100743Z
URL:https://icas.sevilla.org/espacios/antiquarium/agenda/congreso-internac
 ional-de-ceramica-artesanal-espana-e-italia
END:VEVENT
BEGIN:VTIMEZONE
TZID:Europe/Madrid
X-LIC-LOCATION:Europe/Madrid
BEGIN:STANDARD
DTSTART;VALUE=DATE-TIME:20221030T020000
TZNAME:CET
TZOFFSETFROM:+0200
TZOFFSETTO:+0100
END:STANDARD
END:VTIMEZONE
END:VCALENDAR
