BEGIN:VCALENDAR
VERSION:2.0
PRODID:-//Plone.org//NONSGML plone.app.event//EN
X-WR-TIMEZONE:Europe/Madrid
BEGIN:VEVENT
SUMMARY:EUSEBIO LEAL\, EL HISTORIADOR. RESTAURACIÓN DE LA HABANA VIEJA.  
 CONFERENCIA DE ONERYS CALVO
DTSTART;TZID=Europe/Madrid;VALUE=DATE-TIME:20240213T190000
DTSTAMP;VALUE=DATE-TIME:20260421T045445Z
UID:f15d46c303124a48b7b58ad6e11f651a@icas.sevilla.org
CREATED;VALUE=DATE-TIME:20240207T100501Z
LAST-MODIFIED;VALUE=DATE-TIME:20240207T100519Z
URL:https://icas.sevilla.org/espacios/antiquarium/agenda/eusebio-leal-el-h
 istoriador-restauracion-de-la-habana-vieja-conferencia-de-onerys-calvo
END:VEVENT
BEGIN:VTIMEZONE
TZID:Europe/Madrid
X-LIC-LOCATION:Europe/Madrid
BEGIN:STANDARD
DTSTART;VALUE=DATE-TIME:20231029T020000
TZNAME:CET
TZOFFSETFROM:+0200
TZOFFSETTO:+0100
END:STANDARD
END:VTIMEZONE
END:VCALENDAR
