BEGIN:VCALENDAR
VERSION:2.0
PRODID:-//Plone.org//NONSGML plone.app.event//EN
X-WR-TIMEZONE:Europe/Madrid
BEGIN:VEVENT
SUMMARY:Exposición 18º CREA
DTSTART;TZID=Europe/Madrid;VALUE=DATE-TIME:20230418T190000
DTEND;TZID=Europe/Madrid;VALUE=DATE-TIME:20230428T200000
DTSTAMP;VALUE=DATE-TIME:20260419T203928Z
UID:165c469d3e4a403e8f5e490d775ffedc@icas.sevilla.org
CATEGORIES:Exposición
CREATED;VALUE=DATE-TIME:20230331T102925Z
LAST-MODIFIED;VALUE=DATE-TIME:20231011T100743Z
URL:https://icas.sevilla.org/espacios/antiquarium/agenda/exposicion-18o-cr
 ea
END:VEVENT
BEGIN:VTIMEZONE
TZID:Europe/Madrid
X-LIC-LOCATION:Europe/Madrid
BEGIN:DAYLIGHT
DTSTART;VALUE=DATE-TIME:20230326T030000
TZNAME:CEST
TZOFFSETFROM:+0100
TZOFFSETTO:+0200
END:DAYLIGHT
END:VTIMEZONE
END:VCALENDAR
