BEGIN:VCALENDAR
VERSION:2.0
PRODID:-//Plone.org//NONSGML plone.app.event//EN
X-WR-TIMEZONE:Europe/Madrid
BEGIN:VEVENT
SUMMARY:Exposición. Castillos en el Aire. Arte con las personas sin hogar
DTSTART;TZID=Europe/Madrid;VALUE=DATE-TIME:20230329T100000
DTEND;TZID=Europe/Madrid;VALUE=DATE-TIME:20230416T140000
DTSTAMP;VALUE=DATE-TIME:20260423T042151Z
UID:69d744ebfbd845349e009a35e686177f@icas.sevilla.org
CREATED;VALUE=DATE-TIME:20230227T152056Z
LAST-MODIFIED;VALUE=DATE-TIME:20231011T100742Z
URL:https://icas.sevilla.org/espacios/antiquarium/agenda/exposicion-castil
 los-en-el-aire-arte-con-las-personas-sin-hogar
END:VEVENT
BEGIN:VTIMEZONE
TZID:Europe/Madrid
X-LIC-LOCATION:Europe/Madrid
BEGIN:DAYLIGHT
DTSTART;VALUE=DATE-TIME:20230326T030000
TZNAME:CEST
TZOFFSETFROM:+0100
TZOFFSETTO:+0200
END:DAYLIGHT
END:VTIMEZONE
END:VCALENDAR
