BEGIN:VCALENDAR
VERSION:2.0
PRODID:-//Plone.org//NONSGML plone.app.event//EN
X-WR-TIMEZONE:Europe/Madrid
BEGIN:VEVENT
SUMMARY:EXPOSICIÓN COLECTIVA DEL PREMIO DE PINTURA GRUAS LOZANO
DTSTART;VALUE=DATE:20240221
DTEND;VALUE=DATE:20240311
DTSTAMP;VALUE=DATE-TIME:20260425T191512Z
UID:399922b5f1b14bb1a49b46d497b6010f@icas.sevilla.org
CREATED;VALUE=DATE-TIME:20240207T132653Z
LAST-MODIFIED;VALUE=DATE-TIME:20240207T132656Z
URL:https://icas.sevilla.org/espacios/antiquarium/agenda/exposicion-colect
 iva-del-premio-de-pintura-gruas-lozano
END:VEVENT
END:VCALENDAR
