BEGIN:VCALENDAR
VERSION:2.0
PRODID:-//Plone.org//NONSGML plone.app.event//EN
X-WR-TIMEZONE:Europe/Madrid
BEGIN:VEVENT
SUMMARY:Ilustres inéditas. Las Flapers
DTSTART;TZID=Europe/Madrid;VALUE=DATE-TIME:20220303T100000
DTEND;TZID=Europe/Madrid;VALUE=DATE-TIME:20220320T140000
DTSTAMP;VALUE=DATE-TIME:20260420T105538Z
UID:f4af50aa572742118f559500db613c06@icas.sevilla.org
CATEGORIES:Exposiciones
CREATED;VALUE=DATE-TIME:20220309T170523Z
LAST-MODIFIED;VALUE=DATE-TIME:20231011T100741Z
URL:https://icas.sevilla.org/espacios/antiquarium/agenda/ilustres-ineditas
 -las-flapers
END:VEVENT
BEGIN:VTIMEZONE
TZID:Europe/Madrid
X-LIC-LOCATION:Europe/Madrid
BEGIN:STANDARD
DTSTART;VALUE=DATE-TIME:20211031T020000
TZNAME:CET
TZOFFSETFROM:+0200
TZOFFSETTO:+0100
END:STANDARD
END:VTIMEZONE
END:VCALENDAR
