BEGIN:VCALENDAR
VERSION:2.0
PRODID:-//Plone.org//NONSGML plone.app.event//EN
X-WR-TIMEZONE:Europe/Madrid
BEGIN:VEVENT
SUMMARY:Teatro. 'Poncio Pilato'. EdeTeatro
DTSTART;TZID=Europe/Madrid;VALUE=DATE-TIME:20230325T203000
DTEND;TZID=Europe/Madrid;VALUE=DATE-TIME:20230326T203000
DTSTAMP;VALUE=DATE-TIME:20260424T044830Z
UID:e3d534677f5a41a39c6b73a9232b0323@icas.sevilla.org
CREATED;VALUE=DATE-TIME:20230216T094829Z
LAST-MODIFIED;VALUE=DATE-TIME:20231011T100742Z
URL:https://icas.sevilla.org/espacios/antiquarium/agenda/teatro-poncio-pil
 ato-edeteatro-2
END:VEVENT
BEGIN:VTIMEZONE
TZID:Europe/Madrid
X-LIC-LOCATION:Europe/Madrid
BEGIN:STANDARD
DTSTART;VALUE=DATE-TIME:20221030T020000
TZNAME:CET
TZOFFSETFROM:+0200
TZOFFSETTO:+0100
END:STANDARD
BEGIN:DAYLIGHT
DTSTART;VALUE=DATE-TIME:20230326T030000
TZNAME:CEST
TZOFFSETFROM:+0100
TZOFFSETTO:+0200
END:DAYLIGHT
END:VTIMEZONE
END:VCALENDAR
