BEGIN:VCALENDAR
VERSION:2.0
PRODID:-//Plone.org//NONSGML plone.app.event//EN
X-WR-TIMEZONE:Europe/Madrid
BEGIN:VEVENT
SUMMARY:Visitas teatralizada Mosaicos de Híspalis. De Cultura Antiqua
DTSTART;VALUE=DATE:20210604
DTEND;VALUE=DATE:20210607
DTSTAMP;VALUE=DATE-TIME:20260420T075016Z
UID:93a2d7e1b3904719b68e45c1b05d2bef@icas.sevilla.org
CREATED;VALUE=DATE-TIME:20210601T082707Z
LAST-MODIFIED;VALUE=DATE-TIME:20231011T100741Z
URL:https://icas.sevilla.org/espacios/antiquarium/agenda/visitas-teatraliz
 ada-mosaicos-de-hispalis-de-cultura-antiqua
END:VEVENT
END:VCALENDAR
