BEGIN:VCALENDAR
VERSION:2.0
PRODID:-//Plone.org//NONSGML plone.app.event//EN
X-WR-TIMEZONE:Europe/Madrid
BEGIN:VEVENT
SUMMARY:Firma de fotolibros 'Ficciones'  de Miguel Trillo
DTSTART;TZID=Europe/Madrid;VALUE=DATE-TIME:20210910T130000
DTEND;TZID=Europe/Madrid;VALUE=DATE-TIME:20210910T140000
DTSTAMP;VALUE=DATE-TIME:20260423T142237Z
UID:cd0472e504134409a677e642b38b2c39@icas.sevilla.org
CATEGORIES:Fotografía
CREATED;VALUE=DATE-TIME:20210907T071041Z
LAST-MODIFIED;VALUE=DATE-TIME:20231011T100744Z
LOCATION:Sala Atín Aya
URL:https://icas.sevilla.org/espacios/atin-aya/agenda/firma-de-catalogos-d
 e-la-exposicion-ficciones-de-miguel-trillo
END:VEVENT
BEGIN:VTIMEZONE
TZID:Europe/Madrid
X-LIC-LOCATION:Europe/Madrid
BEGIN:DAYLIGHT
DTSTART;VALUE=DATE-TIME:20210328T030000
TZNAME:CEST
TZOFFSETFROM:+0100
TZOFFSETTO:+0200
END:DAYLIGHT
END:VTIMEZONE
END:VCALENDAR
