BEGIN:VCALENDAR
VERSION:2.0
PRODID:-//Plone.org//NONSGML plone.app.event//EN
X-WR-TIMEZONE:Europe/Madrid
BEGIN:VEVENT
SUMMARY:MP&MP Rosado. Los cuerpos
DTSTART;TZID=Europe/Madrid;VALUE=DATE-TIME:20230309T130000
DTEND;TZID=Europe/Madrid;VALUE=DATE-TIME:20230528T140000
DTSTAMP;VALUE=DATE-TIME:20260422T195836Z
UID:ad8eb20d4b1a460582aa12db7a7a81aa@icas.sevilla.org
CATEGORIES:Exposición
CREATED;VALUE=DATE-TIME:20230302T135534Z
LAST-MODIFIED;VALUE=DATE-TIME:20231011T100744Z
LOCATION:Sala Atín Aya
URL:https://icas.sevilla.org/espacios/atin-aya/agenda/los-cuerpos-mp-mp-as
 ociados
END:VEVENT
BEGIN:VTIMEZONE
TZID:Europe/Madrid
X-LIC-LOCATION:Europe/Madrid
BEGIN:STANDARD
DTSTART;VALUE=DATE-TIME:20221030T020000
TZNAME:CET
TZOFFSETFROM:+0200
TZOFFSETTO:+0100
END:STANDARD
BEGIN:DAYLIGHT
DTSTART;VALUE=DATE-TIME:20230326T030000
TZNAME:CEST
TZOFFSETFROM:+0100
TZOFFSETTO:+0200
END:DAYLIGHT
END:VTIMEZONE
END:VCALENDAR
