BEGIN:VCALENDAR
VERSION:2.0
PRODID:-//Plone.org//NONSGML plone.app.event//EN
X-WR-TIMEZONE:Europe/Madrid
BEGIN:VEVENT
SUMMARY:'Persuasive Painting'\, de Fernando Clemente
DTSTART;TZID=Europe/Madrid;VALUE=DATE-TIME:20210408T120000
DTEND;TZID=Europe/Madrid;VALUE=DATE-TIME:20210613T000000
DTSTAMP;VALUE=DATE-TIME:20260419T145702Z
UID:c613d85b766d4d0dad41e628943e16d8@icas.sevilla.org
CATEGORIES:Exposiciones
CREATED;VALUE=DATE-TIME:20210415T151127Z
LAST-MODIFIED;VALUE=DATE-TIME:20231011T100744Z
URL:https://icas.sevilla.org/espacios/atin-aya/agenda/persuasive-painting-
 de-fernando-clemente
END:VEVENT
BEGIN:VTIMEZONE
TZID:Europe/Madrid
X-LIC-LOCATION:Europe/Madrid
BEGIN:DAYLIGHT
DTSTART;VALUE=DATE-TIME:20210328T030000
TZNAME:CEST
TZOFFSETFROM:+0100
TZOFFSETTO:+0200
END:DAYLIGHT
END:VTIMEZONE
END:VCALENDAR
