BEGIN:VCALENDAR
VERSION:2.0
PRODID:-//Plone.org//NONSGML plone.app.event//EN
X-WR-TIMEZONE:Europe/Madrid
BEGIN:VEVENT
SUMMARY:La cerámica en los conventos de clausura. Santa Paula (conferenci
 a)
DTSTART;TZID=Europe/Madrid;VALUE=DATE-TIME:20221030T123000
DTEND;TZID=Europe/Madrid;VALUE=DATE-TIME:20221030T133000
DTSTAMP;VALUE=DATE-TIME:20260422T130519Z
UID:fdbd8c548455432dad5c689b8cf5d608@icas.sevilla.org
CATEGORIES:Conferencia,Cerámica,Patrimonio
CREATED;VALUE=DATE-TIME:20221024T145625Z
LAST-MODIFIED;VALUE=DATE-TIME:20231011T090351Z
URL:https://icas.sevilla.org/espacios/centro-ceramica/agenda/la-ceramica-e
 n-los-conventos-de-clausura-santa-paula-conferencia
END:VEVENT
BEGIN:VTIMEZONE
TZID:Europe/Madrid
X-LIC-LOCATION:Europe/Madrid
BEGIN:STANDARD
DTSTART;VALUE=DATE-TIME:20221030T020000
TZNAME:CET
TZOFFSETFROM:+0200
TZOFFSETTO:+0100
END:STANDARD
END:VTIMEZONE
END:VCALENDAR
