BEGIN:VCALENDAR
VERSION:2.0
PRODID:-//Plone.org//NONSGML plone.app.event//EN
X-WR-TIMEZONE:Europe/Madrid
BEGIN:VEVENT
SUMMARY:Big Bang Festival
DTSTART;TZID=Europe/Madrid;VALUE=DATE-TIME:20230326T113000
DTEND;TZID=Europe/Madrid;VALUE=DATE-TIME:20230326T193000
DTSTAMP;VALUE=DATE-TIME:20260422T105521Z
UID:c349f6d340ed44c48038288ad19a962f@icas.sevilla.org
CATEGORIES:Infantil,Música
CREATED;VALUE=DATE-TIME:20230314T100903Z
LAST-MODIFIED;VALUE=DATE-TIME:20231011T090432Z
LOCATION:Espacio Santa Clara
URL:https://icas.sevilla.org/espacios/espacio-santa-clara/agenda/copy_of_b
 ig-bang-festival
END:VEVENT
BEGIN:VTIMEZONE
TZID:Europe/Madrid
X-LIC-LOCATION:Europe/Madrid
BEGIN:DAYLIGHT
DTSTART;VALUE=DATE-TIME:20230326T030000
TZNAME:CEST
TZOFFSETFROM:+0100
TZOFFSETTO:+0200
END:DAYLIGHT
END:VTIMEZONE
END:VCALENDAR
