BEGIN:VCALENDAR
VERSION:2.0
PRODID:-//Plone.org//NONSGML plone.app.event//EN
X-WR-TIMEZONE:Europe/Madrid
BEGIN:VEVENT
SUMMARY:Firmamentos interiores: Luis Gordillo / Grandes formatos: 2002-202
 0
DTSTART;TZID=Europe/Madrid;VALUE=DATE-TIME:20230323T133000
DTEND;TZID=Europe/Madrid;VALUE=DATE-TIME:20230910T140000
DTSTAMP;VALUE=DATE-TIME:20260423T083913Z
UID:fbcc2d81b17a44c3b6b6456a76d787b5@icas.sevilla.org
CATEGORIES:Exposición,Arte contemporáneo
CREATED;VALUE=DATE-TIME:20230314T111220Z
LAST-MODIFIED;VALUE=DATE-TIME:20231011T090432Z
URL:https://icas.sevilla.org/espacios/espacio-santa-clara/agenda/firmament
 os-interiores-luis-gordillo-grandes-formatos-2002-2020
END:VEVENT
BEGIN:VTIMEZONE
TZID:Europe/Madrid
X-LIC-LOCATION:Europe/Madrid
BEGIN:STANDARD
DTSTART;VALUE=DATE-TIME:20221030T020000
TZNAME:CET
TZOFFSETFROM:+0200
TZOFFSETTO:+0100
END:STANDARD
BEGIN:DAYLIGHT
DTSTART;VALUE=DATE-TIME:20230326T030000
TZNAME:CEST
TZOFFSETFROM:+0100
TZOFFSETTO:+0200
END:DAYLIGHT
END:VTIMEZONE
END:VCALENDAR
