BEGIN:VCALENDAR
VERSION:2.0
PRODID:-//Plone.org//NONSGML plone.app.event//EN
X-WR-TIMEZONE:Europe/Madrid
BEGIN:VEVENT
SUMMARY:I Seminario Internacional 'AKELARRE: Creencias heterodoxas en la l
 iteratura hispánica'
DTSTART;TZID=Europe/Madrid;VALUE=DATE-TIME:20220224T100000
DTEND;TZID=Europe/Madrid;VALUE=DATE-TIME:20220225T191500
DTSTAMP;VALUE=DATE-TIME:20260422T172348Z
UID:124c51d5d3514086b1bc50c9fc79b133@icas.sevilla.org
CATEGORIES:Conferencia,Debate
CREATED;VALUE=DATE-TIME:20220221T161345Z
LAST-MODIFIED;VALUE=DATE-TIME:20231011T090409Z
URL:https://icas.sevilla.org/espacios/espacio-santa-clara/agenda/i-seminar
 io-internacional-akelarre-creencias-heterodoxas-en-la-literatura-hispanica
END:VEVENT
BEGIN:VTIMEZONE
TZID:Europe/Madrid
X-LIC-LOCATION:Europe/Madrid
BEGIN:STANDARD
DTSTART;VALUE=DATE-TIME:20211031T020000
TZNAME:CET
TZOFFSETFROM:+0200
TZOFFSETTO:+0100
END:STANDARD
END:VTIMEZONE
END:VCALENDAR
