BEGIN:VCALENDAR
VERSION:2.0
PRODID:-//Plone.org//NONSGML plone.app.event//EN
X-WR-TIMEZONE:Europe/Madrid
BEGIN:VEVENT
SUMMARY:Manicromático. Transformaciones del color en la obra de Luis Gord
 illo
DTSTART;TZID=Europe/Madrid;VALUE=DATE-TIME:20220218T120000
DTEND;TZID=Europe/Madrid;VALUE=DATE-TIME:20240229T200000
DTSTAMP;VALUE=DATE-TIME:20260423T103232Z
UID:0ed8996a20a84a9a91c52dca3cb9d89c@icas.sevilla.org
CATEGORIES:Exposición
CREATED;VALUE=DATE-TIME:20230321T114142Z
LAST-MODIFIED;VALUE=DATE-TIME:20231011T090444Z
URL:https://icas.sevilla.org/espacios/espacio-santa-clara/agenda/manicroma
 tico-transformaciones-del-color-en-la-obra-de-luis-gordillo
END:VEVENT
BEGIN:VTIMEZONE
TZID:Europe/Madrid
X-LIC-LOCATION:Europe/Madrid
BEGIN:STANDARD
DTSTART;VALUE=DATE-TIME:20211031T020000
TZNAME:CET
TZOFFSETFROM:+0200
TZOFFSETTO:+0100
END:STANDARD
BEGIN:STANDARD
DTSTART;VALUE=DATE-TIME:20231029T020000
TZNAME:CET
TZOFFSETFROM:+0200
TZOFFSETTO:+0100
END:STANDARD
END:VTIMEZONE
END:VCALENDAR
