BEGIN:VCALENDAR
VERSION:2.0
PRODID:-//Plone.org//NONSGML plone.app.event//EN
X-WR-TIMEZONE:Europe/Madrid
BEGIN:VEVENT
SUMMARY:Unos cuerpos son como flores. Naturalezas trans
DTSTART;TZID=Europe/Madrid;VALUE=DATE-TIME:20230209T130000
DTEND;TZID=Europe/Madrid;VALUE=DATE-TIME:20230409T140000
DTSTAMP;VALUE=DATE-TIME:20260425T165149Z
UID:b553b46a710c45c58f9f99f06f564cf0@icas.sevilla.org
CATEGORIES:Exposición
CREATED;VALUE=DATE-TIME:20230116T173435Z
LAST-MODIFIED;VALUE=DATE-TIME:20231011T090431Z
URL:https://icas.sevilla.org/espacios/espacio-santa-clara/agenda/unos-cuer
 pos-son-como-flores-naturalezas-trans
END:VEVENT
BEGIN:VTIMEZONE
TZID:Europe/Madrid
X-LIC-LOCATION:Europe/Madrid
BEGIN:STANDARD
DTSTART;VALUE=DATE-TIME:20221030T020000
TZNAME:CET
TZOFFSETFROM:+0200
TZOFFSETTO:+0100
END:STANDARD
BEGIN:DAYLIGHT
DTSTART;VALUE=DATE-TIME:20230326T030000
TZNAME:CEST
TZOFFSETFROM:+0100
TZOFFSETTO:+0200
END:DAYLIGHT
END:VTIMEZONE
END:VCALENDAR
