BEGIN:VCALENDAR
VERSION:2.0
PRODID:-//Plone.org//NONSGML plone.app.event//EN
X-WR-TIMEZONE:Europe/Madrid
BEGIN:VEVENT
SUMMARY:XL FESTIVAL DE MÚSICA ANTIGUA DE SEVILLA
DTSTART;TZID=Europe/Madrid;VALUE=DATE-TIME:20230310T200000
DTEND;TZID=Europe/Madrid;VALUE=DATE-TIME:20230331T220000
DTSTAMP;VALUE=DATE-TIME:20260422T152914Z
UID:bbfb174268ac43b1b4a691edb812865f@icas.sevilla.org
CATEGORIES:Música Antigua 
CREATED;VALUE=DATE-TIME:20220914T082607Z
LAST-MODIFIED;VALUE=DATE-TIME:20231011T100611Z
URL:https://icas.sevilla.org/espacios/espacio-turina/agenda/40-festival-de
 -musica-antigua-de-sevilla
END:VEVENT
BEGIN:VTIMEZONE
TZID:Europe/Madrid
X-LIC-LOCATION:Europe/Madrid
BEGIN:STANDARD
DTSTART;VALUE=DATE-TIME:20221030T020000
TZNAME:CET
TZOFFSETFROM:+0200
TZOFFSETTO:+0100
END:STANDARD
BEGIN:DAYLIGHT
DTSTART;VALUE=DATE-TIME:20230326T030000
TZNAME:CEST
TZOFFSETFROM:+0100
TZOFFSETTO:+0200
END:DAYLIGHT
END:VTIMEZONE
END:VCALENDAR
