BEGIN:VCALENDAR
VERSION:2.0
PRODID:-//Plone.org//NONSGML plone.app.event//EN
X-WR-TIMEZONE:Europe/Madrid
BEGIN:VEVENT
SUMMARY:Alejandro Marías / Jordan Fumadó
DTSTART;TZID=Europe/Madrid;VALUE=DATE-TIME:20230203T200000
DTEND;TZID=Europe/Madrid;VALUE=DATE-TIME:20230203T220000
DTSTAMP;VALUE=DATE-TIME:20260420T125835Z
UID:84de54eeb1234abf921ff7e065c24923@icas.sevilla.org
CATEGORIES:Música antigua 
CREATED;VALUE=DATE-TIME:20220913T123656Z
DESCRIPTION:Música Antigua. Presentación discográfica.
LAST-MODIFIED;VALUE=DATE-TIME:20231011T100610Z
LOCATION:Sala Silvio
URL:https://icas.sevilla.org/espacios/espacio-turina/agenda/alejandro-mari
 as-viola-da-gamba-i-jordan-fumado-clave
END:VEVENT
BEGIN:VTIMEZONE
TZID:Europe/Madrid
X-LIC-LOCATION:Europe/Madrid
BEGIN:STANDARD
DTSTART;VALUE=DATE-TIME:20221030T020000
TZNAME:CET
TZOFFSETFROM:+0200
TZOFFSETTO:+0100
END:STANDARD
END:VTIMEZONE
END:VCALENDAR
