BEGIN:VCALENDAR
VERSION:2.0
PRODID:-//Plone.org//NONSGML plone.app.event//EN
X-WR-TIMEZONE:Europe/Madrid
BEGIN:VEVENT
SUMMARY:Asociación Musical CODICE
DTSTART;TZID=Europe/Madrid;VALUE=DATE-TIME:20240512T120000
DTEND;TZID=Europe/Madrid;VALUE=DATE-TIME:20240512T130000
DTSTAMP;VALUE=DATE-TIME:20260420T124937Z
UID:62c55496dc6146d1a89c0a1e6fad2f7a@icas.sevilla.org
CATEGORIES:Música contemporánea
CREATED;VALUE=DATE-TIME:20231201T102902Z
LAST-MODIFIED;VALUE=DATE-TIME:20231201T103158Z
URL:https://icas.sevilla.org/espacios/espacio-turina/agenda/asociacion-mus
 ical-codice
END:VEVENT
BEGIN:VTIMEZONE
TZID:Europe/Madrid
X-LIC-LOCATION:Europe/Madrid
BEGIN:DAYLIGHT
DTSTART;VALUE=DATE-TIME:20240331T030000
TZNAME:CEST
TZOFFSETFROM:+0100
TZOFFSETTO:+0200
END:DAYLIGHT
END:VTIMEZONE
END:VCALENDAR
