BEGIN:VCALENDAR
VERSION:2.0
PRODID:-//Plone.org//NONSGML plone.app.event//EN
X-WR-TIMEZONE:Europe/Madrid
BEGIN:VEVENT
SUMMARY:Big Band del Conservatorio Superior de Música de Sevilla / Gusta
 vo Díaz Luque
DTSTART;TZID=Europe/Madrid;VALUE=DATE-TIME:20230414T200000
DTEND;TZID=Europe/Madrid;VALUE=DATE-TIME:20230414T220000
DTSTAMP;VALUE=DATE-TIME:20260425T191344Z
UID:7a16e7c353364618a70446b2f9c65fd4@icas.sevilla.org
CATEGORIES:CSMS MANUEL CASTILLO
CREATED;VALUE=DATE-TIME:20220915T095432Z
DESCRIPTION:Conservatorio Superior de Música Manuel Castillo
LAST-MODIFIED;VALUE=DATE-TIME:20231011T100611Z
LOCATION:Sala Silvio
URL:https://icas.sevilla.org/espacios/espacio-turina/agenda/big-band-del-c
 onservatorio-superior-de-musica-de-sevilla-2
END:VEVENT
BEGIN:VTIMEZONE
TZID:Europe/Madrid
X-LIC-LOCATION:Europe/Madrid
BEGIN:DAYLIGHT
DTSTART;VALUE=DATE-TIME:20230326T030000
TZNAME:CEST
TZOFFSETFROM:+0100
TZOFFSETTO:+0200
END:DAYLIGHT
END:VTIMEZONE
END:VCALENDAR
